BEGIN:VCALENDAR
VERSION:2.0
PRODID:-//Montgomery County Women&#039;s Center - ECPv6.15.20//NONSGML v1.0//EN
CALSCALE:GREGORIAN
METHOD:PUBLISH
X-ORIGINAL-URL:https://mcwctx.org
X-WR-CALDESC:Events for Montgomery County Women&#039;s Center
REFRESH-INTERVAL;VALUE=DURATION:PT1H
X-Robots-Tag:noindex
X-PUBLISHED-TTL:PT1H
BEGIN:VTIMEZONE
TZID:America/Chicago
BEGIN:DAYLIGHT
TZOFFSETFROM:-0600
TZOFFSETTO:-0500
TZNAME:CDT
DTSTART:20240310T080000
END:DAYLIGHT
BEGIN:STANDARD
TZOFFSETFROM:-0500
TZOFFSETTO:-0600
TZNAME:CST
DTSTART:20241103T070000
END:STANDARD
BEGIN:DAYLIGHT
TZOFFSETFROM:-0600
TZOFFSETTO:-0500
TZNAME:CDT
DTSTART:20250309T080000
END:DAYLIGHT
BEGIN:STANDARD
TZOFFSETFROM:-0500
TZOFFSETTO:-0600
TZNAME:CST
DTSTART:20251102T070000
END:STANDARD
BEGIN:DAYLIGHT
TZOFFSETFROM:-0600
TZOFFSETTO:-0500
TZNAME:CDT
DTSTART:20260308T080000
END:DAYLIGHT
BEGIN:STANDARD
TZOFFSETFROM:-0500
TZOFFSETTO:-0600
TZNAME:CST
DTSTART:20261101T070000
END:STANDARD
BEGIN:DAYLIGHT
TZOFFSETFROM:-0600
TZOFFSETTO:-0500
TZNAME:CDT
DTSTART:20270314T080000
END:DAYLIGHT
BEGIN:STANDARD
TZOFFSETFROM:-0500
TZOFFSETTO:-0600
TZNAME:CST
DTSTART:20271107T070000
END:STANDARD
END:VTIMEZONE
BEGIN:VEVENT
DTSTART;TZID=America/Chicago:20251101T080000
DTEND;TZID=America/Chicago:20251215T170000
DTSTAMP:20260425T222301
CREATED:20250522T205932Z
LAST-MODIFIED:20250522T205932Z
UID:35237-1761984000-1765818000@mcwctx.org
SUMMARY:SHARE-A-FAMILY & Shelter Santa Holiday Program (Register Now)
DESCRIPTION:Every year\, we provide an opportunity to bring joy to a family that’s holiday season looks and sounds a little different. Through our Holiday Program\, our shelter residents and community families who have experienced domestic abuse are able to have some normalcy during the holidays through gifts donated by generous sponsors. Whether you are participating with coworkers or with family\, this program is a great opportunity to start a conversation about domestic violence and how it effect’s individuals in our community and gives you an opportunity to show survivors support during an often challenging time of year. \n  \nYou can support the program by sponsoring a family or individual\, hosting a giving tree\, or making a monetary donation. \n  \nFor three wonderful days in December\, over 100 clients and families receive gifts\, homemade cookies and hugs. They are overwhelmed by the generosity of strangers who provide holiday gifts for their families. If not for the compassion of the individuals and the companies who graciously adopt them\, the holidays would be no different than any other day on the calendar. This event is made possible by the many generous donors who sponsor families or make cash donations. \n  \nThank you for making the season magical for all! \n  \nFor more information on this program contact (936) 441-4044 ext. 45 or email volunteer@mcwctx.org.
URL:https://mcwctx.org/event/share-a-family-shelter-santa-holiday-program-register-now/
LOCATION:1401 Airport Rd\, Conroe TX 77301
ATTACH;FMTTYPE=image/jpeg:https://mcwctx.org/wp-content/uploads/2025/05/Website-Upcoming-Events-Images-169-32.jpg
END:VEVENT
BEGIN:VEVENT
DTSTART;TZID=America/Chicago:20251215T100000
DTEND;TZID=America/Chicago:20260217T170000
DTSTAMP:20260425T222301
CREATED:20251215T154744Z
LAST-MODIFIED:20251215T154907Z
UID:36928-1765792800-1771347600@mcwctx.org
SUMMARY:2026 Teen Writing & Art Challenge- Register Now!
DESCRIPTION:SUBMISSION DEADLINE: FEBRUARY 17\, 2026 (5:00PM) \nThe Writing and Art Challenge was created\, in 2018\, by the Montgomery County Women’s Center as an avenue for teens to start talking about dating & relationships. It is meant to create a safe environment to explore and discuss the impacts (both positive and negative) of common dynamics found in these experiences. Montgomery County Women’s Center has been proudly serving Montgomery and surrounding counties for over 40 years. Our mission is to lead the effort in preventing domestic violence and sexual assault through crisis intervention\, assistance\, advocacy\, empowerment\, and social change. \n  \nMIDDLE SCHOOL AWARDS: \n\nFirst Place Writing ($250 Gift Card)\nFirst Place Art ($250 Gift Card)\nSecond Place Writing ($100 Gift Card)\nSecond Place Art ($100 Gift Card)\nThird Place Writing ($50 Gift Card)\nThird Place Art ($50 Gift Card)\n\nHIGH SCHOOL AWARDS: \n\nFirst Place Writing ($1\,000 Scholarship)\nFirst Place Art ($1\,000 Scholarship)\nSecond Place Writing ($750 Scholarship)\nSecond Place Art ($750 Scholarship)\nThird Place Writing ($500 Scholarship)\nThird Place Art ($500 Scholarship)\n\n  \nREGISTER HERE\nigfn.us/form/dKjdtw
URL:https://mcwctx.org/event/2026-teen-writing-art-challenge-registration/
LOCATION:1401 Airport Rd\, Conroe TX 77301
ATTACH;FMTTYPE=image/jpeg:https://mcwctx.org/wp-content/uploads/2025/12/Website-Upcoming-Events-Images-169-2025-12-15T092631.753.jpg
END:VEVENT
BEGIN:VEVENT
DTSTART;VALUE=DATE:20251224
DTEND;VALUE=DATE:20251226
DTSTAMP:20260425T222301
CREATED:20251229T201259Z
LAST-MODIFIED:20251229T201259Z
UID:37010-1766534400-1766707199@mcwctx.org
SUMMARY:Christmas (Something Special Closed)
DESCRIPTION:
URL:https://mcwctx.org/event/christmas-something-special-closed/
LOCATION:TX
ATTACH;FMTTYPE=image/jpeg:https://mcwctx.org/wp-content/uploads/2025/12/Website-Upcoming-Events-Images-169-2025-12-29T132754.623.jpg
END:VEVENT
BEGIN:VEVENT
DTSTART;TZID=America/Chicago:20251231T090000
DTEND;TZID=America/Chicago:20251231T130000
DTSTAMP:20260425T222301
CREATED:20251229T201411Z
LAST-MODIFIED:20251229T201411Z
UID:37011-1767171600-1767186000@mcwctx.org
SUMMARY:New Years Eve (Something Special)
DESCRIPTION:
URL:https://mcwctx.org/event/new-years-eve-something-special/
LOCATION:TX
ATTACH;FMTTYPE=image/jpeg:https://mcwctx.org/wp-content/uploads/2025/12/Website-Upcoming-Events-Images-169-2025-12-29T132754.623.jpg
END:VEVENT
END:VCALENDAR