BEGIN:VCALENDAR
VERSION:2.0
PRODID:-//Montgomery County Women&#039;s Center - ECPv6.15.20//NONSGML v1.0//EN
CALSCALE:GREGORIAN
METHOD:PUBLISH
X-ORIGINAL-URL:https://mcwctx.org
X-WR-CALDESC:Events for Montgomery County Women&#039;s Center
REFRESH-INTERVAL;VALUE=DURATION:PT1H
X-Robots-Tag:noindex
X-PUBLISHED-TTL:PT1H
BEGIN:VTIMEZONE
TZID:America/Chicago
BEGIN:DAYLIGHT
TZOFFSETFROM:-0600
TZOFFSETTO:-0500
TZNAME:CDT
DTSTART:20250309T080000
END:DAYLIGHT
BEGIN:STANDARD
TZOFFSETFROM:-0500
TZOFFSETTO:-0600
TZNAME:CST
DTSTART:20251102T070000
END:STANDARD
BEGIN:DAYLIGHT
TZOFFSETFROM:-0600
TZOFFSETTO:-0500
TZNAME:CDT
DTSTART:20260308T080000
END:DAYLIGHT
BEGIN:STANDARD
TZOFFSETFROM:-0500
TZOFFSETTO:-0600
TZNAME:CST
DTSTART:20261101T070000
END:STANDARD
BEGIN:DAYLIGHT
TZOFFSETFROM:-0600
TZOFFSETTO:-0500
TZNAME:CDT
DTSTART:20270314T080000
END:DAYLIGHT
BEGIN:STANDARD
TZOFFSETFROM:-0500
TZOFFSETTO:-0600
TZNAME:CST
DTSTART:20271107T070000
END:STANDARD
END:VTIMEZONE
BEGIN:VEVENT
DTSTART;TZID=America/Chicago:20260601T080000
DTEND;TZID=America/Chicago:20260630T170000
DTSTAMP:20260425T222610
CREATED:20251229T214919Z
LAST-MODIFIED:20251229T214919Z
UID:37028-1780300800-1782838800@mcwctx.org
SUMMARY:Elder Abuse Awareness Month
DESCRIPTION:Elder abuse is a largely hidden and growing problem in the United States. It is defined by law as “an act or omission\, which results in a serious physical or emotional injury to an elderly person or financial exploitation of an elderly person; or the failure\, inability or resistance of an elderly person to provide for himself or herself one or more of the necessities essential for physical and emotional well-being without which the elderly person would be unable to safely remain in the community.”  Elder abuse can include physical\, sexual\, emotional\, neglect\, and financial exploitation. Another form of elder abuse is self-neglect. Every June\, advocates join together across the country for a national effort to raise awareness during Elder Abuse Awareness Month. This annual\, month-long push focuses on advocacy and education on how to recognize the signs of elder abuse and support those who may be experiencing it.
URL:https://mcwctx.org/event/elder-abuse-awareness-month/
LOCATION:TX
ATTACH;FMTTYPE=image/png:https://mcwctx.org/wp-content/uploads/2025/12/Website-Upcoming-Events-Images-169-61.png
END:VEVENT
END:VCALENDAR