BEGIN:VCALENDAR
VERSION:2.0
PRODID:-//Montgomery County Women&#039;s Center - ECPv6.15.20//NONSGML v1.0//EN
CALSCALE:GREGORIAN
METHOD:PUBLISH
X-ORIGINAL-URL:https://mcwctx.org
X-WR-CALDESC:Events for Montgomery County Women&#039;s Center
REFRESH-INTERVAL;VALUE=DURATION:PT1H
X-Robots-Tag:noindex
X-PUBLISHED-TTL:PT1H
BEGIN:VTIMEZONE
TZID:America/Chicago
BEGIN:DAYLIGHT
TZOFFSETFROM:-0600
TZOFFSETTO:-0500
TZNAME:CDT
DTSTART:20250309T080000
END:DAYLIGHT
BEGIN:STANDARD
TZOFFSETFROM:-0500
TZOFFSETTO:-0600
TZNAME:CST
DTSTART:20251102T070000
END:STANDARD
BEGIN:DAYLIGHT
TZOFFSETFROM:-0600
TZOFFSETTO:-0500
TZNAME:CDT
DTSTART:20260308T080000
END:DAYLIGHT
BEGIN:STANDARD
TZOFFSETFROM:-0500
TZOFFSETTO:-0600
TZNAME:CST
DTSTART:20261101T070000
END:STANDARD
BEGIN:DAYLIGHT
TZOFFSETFROM:-0600
TZOFFSETTO:-0500
TZNAME:CDT
DTSTART:20270314T080000
END:DAYLIGHT
BEGIN:STANDARD
TZOFFSETFROM:-0500
TZOFFSETTO:-0600
TZNAME:CST
DTSTART:20271107T070000
END:STANDARD
END:VTIMEZONE
BEGIN:VEVENT
DTSTART;TZID=America/Chicago:20260401T080000
DTEND;TZID=America/Chicago:20260517T170000
DTSTAMP:20260425T191258
CREATED:20251229T212111Z
LAST-MODIFIED:20260216T203618Z
UID:37027-1775030400-1779037200@mcwctx.org
SUMMARY:Sexual Assault Victim Donation Drive
DESCRIPTION:Montgomery County Women’s Center advocates responded 515 sexual assault exams in 2024.\n\nIf you or your organization are interested in donating bras & underwear for our Sexual Assault Advocacy Program they can be dropped off or mail to:\nMontgomery County Women’s Center: 1401 Airport Rd\, Conroe TX 77301 (Attn: Siomara)\n\n………………………………………………………………………………………………………………\n\nHeartbreaking but REAL & RAW account from a forensic nurse.\n\nThis is the underwear that no woman wants to wear.\nAnd it’s not just because it’s a plain cotton sports bra the color of Pepto-Bismol.\nIt’s because this is the underwear we give to survivors of rape and sexual assault after we take their own underwear as evidence.\nWe take their nice underwear\, their favorite underwear\, their cute underwear\, their comfy underwear\, their best-fitting bra\, their 75-dollar designer bra\, their weekend bra\, their work bra. And we take it away from them while wearing gloves\, and drop it into a paper bag\, and seal it with evidence tape and write their police case number on the outside\, and send it to the state crime lab\, and they never see it again.\nAnd we give them some Fruit from the Loom to wear home\, back to a life and a world they no longer recognize and no longer trust.\nBut here’s the kicker: That boring sports bra is WAY way WAY better than what some survivors get when they’re discharged.\nSome women have ALL of their clothes taken for evidence. Shirt. Undershirt. Pants. Bra. Underwear. Even their socks. And if the local forensic/sexual assault program that cares for them doesn’t have — or won’t buy — or can’t buy — clothes for them\, they get discharged in hospital scrubs.\nAnd grippy hospital socks.\nAnd postpartum white-mesh hospital underwear.\nAnd no bra.\nEver seen a woman who’s just been raped\, just had a three-hour forensic exam\, just had every surface of her battered body swabbed and photographed and inventoried for the police\, ever seen her walk out of a hospital wearing oversized hospital scrubs ——and her arms wrapped tightly around her chest\, ashamed\, because she doesn’t have a bra to wear?\nI have.\nAnd I absolutely refuse to ever see it again.\nThis is $150 of underwear from Kohl’s. My team and I buy this underwear ourselves for our patients\, because we are no longer willing to let any of our survivors go home without a bra\, or without a decent pair of underwear.\nIf you are looking for a place to donate something meaningful this holiday season\, reach out to your local Forensic Nursing team\, rape crisis center\, or domestic violence shelter.\nGo to Wal-Mart\, or Kohl’s\, or Target\, and buy clothes you’d feel comfortable in curled up\, safe at home\, watching TV. And donate them.\nNew underwear\, a comfortable bra\, a comfortable pair of pants\, a soft hoody\, squishy socks — all of these things can help make a woman who has survived a violent rape feel like a person again.\nA person.\nNot a victim.\nBecause it’s a long walk down that hallway\, out of the hospital\, and back into the world.\nAt least she can be comfortable as she takes each step.
URL:https://mcwctx.org/event/sexual-assault-victim-donation-drive/
LOCATION:TX
ATTACH;FMTTYPE=image/png:https://mcwctx.org/wp-content/uploads/2025/12/Website-Upcoming-Events-Images-169-59.png
END:VEVENT
END:VCALENDAR