BEGIN:VCALENDAR
VERSION:2.0
PRODID:-//Montgomery County Women&#039;s Center - ECPv6.15.20//NONSGML v1.0//EN
CALSCALE:GREGORIAN
METHOD:PUBLISH
X-ORIGINAL-URL:https://mcwctx.org
X-WR-CALDESC:Events for Montgomery County Women&#039;s Center
REFRESH-INTERVAL;VALUE=DURATION:PT1H
X-Robots-Tag:noindex
X-PUBLISHED-TTL:PT1H
BEGIN:VTIMEZONE
TZID:America/Chicago
BEGIN:DAYLIGHT
TZOFFSETFROM:-0600
TZOFFSETTO:-0500
TZNAME:CDT
DTSTART:20250309T080000
END:DAYLIGHT
BEGIN:STANDARD
TZOFFSETFROM:-0500
TZOFFSETTO:-0600
TZNAME:CST
DTSTART:20251102T070000
END:STANDARD
BEGIN:DAYLIGHT
TZOFFSETFROM:-0600
TZOFFSETTO:-0500
TZNAME:CDT
DTSTART:20260308T080000
END:DAYLIGHT
BEGIN:STANDARD
TZOFFSETFROM:-0500
TZOFFSETTO:-0600
TZNAME:CST
DTSTART:20261101T070000
END:STANDARD
BEGIN:DAYLIGHT
TZOFFSETFROM:-0600
TZOFFSETTO:-0500
TZNAME:CDT
DTSTART:20270314T080000
END:DAYLIGHT
BEGIN:STANDARD
TZOFFSETFROM:-0500
TZOFFSETTO:-0600
TZNAME:CST
DTSTART:20271107T070000
END:STANDARD
END:VTIMEZONE
BEGIN:VEVENT
DTSTART;TZID=America/Chicago:20260309T080000
DTEND;TZID=America/Chicago:20260313T200000
DTSTAMP:20260425T191614
CREATED:20260306T220659Z
LAST-MODIFIED:20260306T221513Z
UID:37505-1773043200-1773432000@mcwctx.org
SUMMARY:Weekly Support Groups (March 9-13)
DESCRIPTION:The Montgomery County Women’s Center also offers support groups for survivors of family and sexual violence. If you have any questions about our group meetings\, or if you wish to schedule a counseling session\, please contact the Counseling Office at: (936) 441-4044 ext. 23.\n\nTHE WOODLANDS COUNSELING OFFICEThe United Way Building1600 Lake Front Circle\, Suite 130The Woodlands\, Texas 77380\n\n\nMondays (6:00pm- 8:00pm)Men United In Healing: A Support Group for Male Survivors of Domestic Violence and Sexual Assault. Join a safe\, confidential space to connect\, heal and grow with others who understand. The group will combine psychoeducation and support group methods.\n\n\nTuesdays (6:00pm-7:30pm)Boundaries and Beyond: A Psychoeducational Support Group for Victims of Sexual Assault and Domestic Violence (Adult Females).\n\n\nTuesdays (6:00pm-7:30pm)Conquista tu Mente (Conquer your Mind): Víctimas de agresión sexual y violencia doméstica (mujeres adultas de habla hispana)martes 6:00 p.m. a 7:30 p.m. (Apoyo) Victims of Sexual Assault and Domestic Violence (Spanish Speaking Adult Females)\n\n\nWednesday (12:00pm-1:00pm)RISE: Reclaim Independence Seek Empowerment): This group is for adult female victims/ survivors of domestic violence and sexual assault (open group).The group will combine psychoeducation and support group methods.\n\n\nThursday (6:00pm-7:30pm)Project Hope: Psychoeducation/Support Group for Adults Molested as Children (Adult Females Only)
URL:https://mcwctx.org/event/weekly-support-groups-march-19-13/
LOCATION:MCWC THe Woodlands\, 1600 Lake Front Circle Suite 130\, Spring\, TX\, 77380\, United States
ATTACH;FMTTYPE=image/jpeg:https://mcwctx.org/wp-content/uploads/2026/01/Website-Upcoming-Events-Images-169-2025-05-30T003908.799.jpg
END:VEVENT
END:VCALENDAR