BEGIN:VCALENDAR
VERSION:2.0
PRODID:-//Montgomery County Women&#039;s Center - ECPv6.15.20//NONSGML v1.0//EN
CALSCALE:GREGORIAN
METHOD:PUBLISH
X-WR-CALNAME:Montgomery County Women&#039;s Center
X-ORIGINAL-URL:https://mcwctx.org
X-WR-CALDESC:Events for Montgomery County Women&#039;s Center
REFRESH-INTERVAL;VALUE=DURATION:PT1H
X-Robots-Tag:noindex
X-PUBLISHED-TTL:PT1H
BEGIN:VTIMEZONE
TZID:America/Chicago
BEGIN:DAYLIGHT
TZOFFSETFROM:-0600
TZOFFSETTO:-0500
TZNAME:CDT
DTSTART:20250309T080000
END:DAYLIGHT
BEGIN:STANDARD
TZOFFSETFROM:-0500
TZOFFSETTO:-0600
TZNAME:CST
DTSTART:20251102T070000
END:STANDARD
BEGIN:DAYLIGHT
TZOFFSETFROM:-0600
TZOFFSETTO:-0500
TZNAME:CDT
DTSTART:20260308T080000
END:DAYLIGHT
BEGIN:STANDARD
TZOFFSETFROM:-0500
TZOFFSETTO:-0600
TZNAME:CST
DTSTART:20261101T070000
END:STANDARD
BEGIN:DAYLIGHT
TZOFFSETFROM:-0600
TZOFFSETTO:-0500
TZNAME:CDT
DTSTART:20270314T080000
END:DAYLIGHT
BEGIN:STANDARD
TZOFFSETFROM:-0500
TZOFFSETTO:-0600
TZNAME:CST
DTSTART:20271107T070000
END:STANDARD
END:VTIMEZONE
BEGIN:VEVENT
DTSTART;TZID=America/Chicago:20260201T080000
DTEND;TZID=America/Chicago:20260228T170000
DTSTAMP:20260425T222112
CREATED:20251229T203007Z
LAST-MODIFIED:20251229T203007Z
UID:37014-1769932800-1772298000@mcwctx.org
SUMMARY:Teen Dating Violence Awareness Month
DESCRIPTION:Dating violence is more common than people think\, especially among teens and young adults: one in three teens in the US will experience physical\, sexual\, or emotional abuse from someone they’re in a relationship with before they graduate high school\, and nearly half (43%) of college women report experiencing violent or abusive dating behaviors. Every February\, young people and their loved ones join together across the country for a national effort to raise awareness about the issue of teen dating violence through Teen Dating Violence Awareness Month (TDVAM). This annual\, month-long push focuses on advocacy and education to stop dating abuse before it starts.
URL:https://mcwctx.org/event/teen-dating-violence-awareness-month-2/
LOCATION:TX
ATTACH;FMTTYPE=image/png:https://mcwctx.org/wp-content/uploads/2025/12/Website-Upcoming-Events-Images-169-54.png
END:VEVENT
BEGIN:VEVENT
DTSTART;TZID=America/Chicago:20260201T080000
DTEND;TZID=America/Chicago:20260228T170000
DTSTAMP:20260425T222112
CREATED:20251229T211625Z
LAST-MODIFIED:20251229T211626Z
UID:37021-1769932800-1772298000@mcwctx.org
SUMMARY:Gas Gift Card Donation Drive
DESCRIPTION:Going through a victimization often leaves you with a lot of surprise expenses and it can take a little while for our clients to adjust to their new budget\, so we try to assist with food and fuel as we can. Gift cards can truly help ensure that a victim who is getting on their feet has food and fuel when they need it.\n\nDonations can be dropped (or mailed) to: Montgomery County Women’s Center: 1401 Airport Rd\, Conroe\, TX 77301 (Attn: Siomara)
URL:https://mcwctx.org/event/gas-gift-card-donation-drive/
LOCATION:TX
ATTACH;FMTTYPE=image/png:https://mcwctx.org/wp-content/uploads/2025/12/Website-Upcoming-Events-Images-169-57.png
END:VEVENT
BEGIN:VEVENT
DTSTART;TZID=America/Chicago:20260223T080000
DTEND;TZID=America/Chicago:20260227T170000
DTSTAMP:20260425T222112
CREATED:20260118T202313Z
LAST-MODIFIED:20260118T202313Z
UID:37172-1771833600-1772211600@mcwctx.org
SUMMARY:Weekly Support Groups (Feb 23- Feb 27)
DESCRIPTION:The Montgomery County Women’s Center also offers support groups for survivors of family and sexual violence. If you have any questions about our group meetings\, or if you wish to schedule a counseling session\, please contact the Counseling Office at: (936) 441-4044 ext. 23. \nTHE WOODLANDS COUNSELING OFFICE\nThe United Way Building\n1600 Lake Front Circle\, Suite 130\nThe Woodlands\, Texas 77380 \n  \nMondays (6:00pm- 8:00pm)\nMen United In Healing: A Support Group for Male Survivors of Domestic Violence and Sexual Assault. Join a safe\, confidential space to connect\, heal and grow with others who understand. The group will combine psychoeducation and support group methods. \n  \nTuesdays (6:00pm-7:30pm)\nBoundaries and Beyond: A Psychoeducational Support Group for Victims of Sexual Assault and Domestic Violence (Adult Females). \n  \nTuesdays (6:00pm-7:30pm)\nConquista tu Mente (Conquer your Mind): Víctimas de agresión sexual y violencia doméstica (mujeres adultas de habla hispana)\nmartes 6:00 p.m. a 7:30 p.m. (Apoyo) Victims of Sexual Assault and Domestic Violence (Spanish Speaking Adult Females) \n  \nWednesday (12:00pm-1:00pm)\nRISE: Reclaim Independence Seek Empowerment): This group is for adult female victims/ survivors of domestic violence and sexual assault (open group).The group will combine psychoeducation and support group methods. \n  \nThursday (6:00pm-7:30pm)\nProject Hope: Psychoeducation/Support Group for Adults Molested as Children (Adult Females Only)
URL:https://mcwctx.org/event/weekly-support-groups-feb-23-feb-27/
LOCATION:MCWC THe Woodlands\, 1600 Lake Front Circle Suite 130\, Spring\, TX\, 77380\, United States
ATTACH;FMTTYPE=image/jpeg:https://mcwctx.org/wp-content/uploads/2026/01/Website-Upcoming-Events-Images-169-2025-05-30T003908.799.jpg
END:VEVENT
END:VCALENDAR