BEGIN:VCALENDAR
VERSION:2.0
PRODID:-//Montgomery County Women&#039;s Center - ECPv6.15.20//NONSGML v1.0//EN
CALSCALE:GREGORIAN
METHOD:PUBLISH
X-WR-CALNAME:Montgomery County Women&#039;s Center
X-ORIGINAL-URL:https://mcwctx.org
X-WR-CALDESC:Events for Montgomery County Women&#039;s Center
REFRESH-INTERVAL;VALUE=DURATION:PT1H
X-Robots-Tag:noindex
X-PUBLISHED-TTL:PT1H
BEGIN:VTIMEZONE
TZID:America/Chicago
BEGIN:DAYLIGHT
TZOFFSETFROM:-0600
TZOFFSETTO:-0500
TZNAME:CDT
DTSTART:20240310T080000
END:DAYLIGHT
BEGIN:STANDARD
TZOFFSETFROM:-0500
TZOFFSETTO:-0600
TZNAME:CST
DTSTART:20241103T070000
END:STANDARD
BEGIN:DAYLIGHT
TZOFFSETFROM:-0600
TZOFFSETTO:-0500
TZNAME:CDT
DTSTART:20250309T080000
END:DAYLIGHT
BEGIN:STANDARD
TZOFFSETFROM:-0500
TZOFFSETTO:-0600
TZNAME:CST
DTSTART:20251102T070000
END:STANDARD
BEGIN:DAYLIGHT
TZOFFSETFROM:-0600
TZOFFSETTO:-0500
TZNAME:CDT
DTSTART:20260308T080000
END:DAYLIGHT
BEGIN:STANDARD
TZOFFSETFROM:-0500
TZOFFSETTO:-0600
TZNAME:CST
DTSTART:20261101T070000
END:STANDARD
BEGIN:DAYLIGHT
TZOFFSETFROM:-0600
TZOFFSETTO:-0500
TZNAME:CDT
DTSTART:20270314T080000
END:DAYLIGHT
BEGIN:STANDARD
TZOFFSETFROM:-0500
TZOFFSETTO:-0600
TZNAME:CST
DTSTART:20271107T070000
END:STANDARD
END:VTIMEZONE
BEGIN:VEVENT
DTSTART;TZID=America/Chicago:20251215T100000
DTEND;TZID=America/Chicago:20260217T170000
DTSTAMP:20260425T222035
CREATED:20251215T154744Z
LAST-MODIFIED:20251215T154907Z
UID:36928-1765792800-1771347600@mcwctx.org
SUMMARY:2026 Teen Writing & Art Challenge- Register Now!
DESCRIPTION:SUBMISSION DEADLINE: FEBRUARY 17\, 2026 (5:00PM) \nThe Writing and Art Challenge was created\, in 2018\, by the Montgomery County Women’s Center as an avenue for teens to start talking about dating & relationships. It is meant to create a safe environment to explore and discuss the impacts (both positive and negative) of common dynamics found in these experiences. Montgomery County Women’s Center has been proudly serving Montgomery and surrounding counties for over 40 years. Our mission is to lead the effort in preventing domestic violence and sexual assault through crisis intervention\, assistance\, advocacy\, empowerment\, and social change. \n  \nMIDDLE SCHOOL AWARDS: \n\nFirst Place Writing ($250 Gift Card)\nFirst Place Art ($250 Gift Card)\nSecond Place Writing ($100 Gift Card)\nSecond Place Art ($100 Gift Card)\nThird Place Writing ($50 Gift Card)\nThird Place Art ($50 Gift Card)\n\nHIGH SCHOOL AWARDS: \n\nFirst Place Writing ($1\,000 Scholarship)\nFirst Place Art ($1\,000 Scholarship)\nSecond Place Writing ($750 Scholarship)\nSecond Place Art ($750 Scholarship)\nThird Place Writing ($500 Scholarship)\nThird Place Art ($500 Scholarship)\n\n  \nREGISTER HERE\nigfn.us/form/dKjdtw
URL:https://mcwctx.org/event/2026-teen-writing-art-challenge-registration/
LOCATION:1401 Airport Rd\, Conroe TX 77301
ATTACH;FMTTYPE=image/jpeg:https://mcwctx.org/wp-content/uploads/2025/12/Website-Upcoming-Events-Images-169-2025-12-15T092631.753.jpg
END:VEVENT
BEGIN:VEVENT
DTSTART;TZID=America/Chicago:20260101T080000
DTEND;TZID=America/Chicago:20260131T170000
DTSTAMP:20260425T222035
CREATED:20251219T202700Z
LAST-MODIFIED:20251219T203426Z
UID:36951-1767254400-1769878800@mcwctx.org
SUMMARY:Stalking Awareness Month On-Demand Trainings
DESCRIPTION:January is National Stalking Awareness Month (NSAM)! Stalking must be recognized as a form of interpersonal violence as well as a crime that frequently predicts and co-occurs with physical and sexual assault. We all have a role to play in identifying stalking and supporting victims and survivors. Join us this month for WEEKLY LUNCH AND LEARN opportunities. Simply register below and receive the links to ONE TRAINING A WEEK to watch at your convenience. \nThere is a real and frighteningly significant connection between stalking and intimate partner violence. Stalking often co-occurs with intimate partner violence and can be an indicator of other forms of violence. Stalking can be a way to exert power and control during and/or after an abusive relationship. MCWC has proudly served Montgomery County and its surrounding communities for more than 40 years. We specialize in providing survivors a complete continuum of services and empowering them as they courageously embark on their healing journeys. CALL US AT 936-441-7273 \nREGISTER HERE: igfn.us/form/5qg8rg \n \n 
URL:https://mcwctx.org/event/stalking-awareness-month-on-demand-trainings-2/
LOCATION:TX
ATTACH;FMTTYPE=image/jpeg:https://mcwctx.org/wp-content/uploads/2025/12/Website-Upcoming-Events-Images-169-2025-12-19T142437.983.jpg
END:VEVENT
BEGIN:VEVENT
DTSTART;TZID=America/Chicago:20260101T080000
DTEND;TZID=America/Chicago:20260131T170000
DTSTAMP:20260425T222035
CREATED:20251229T202009Z
LAST-MODIFIED:20251229T202010Z
UID:37013-1767254400-1769878800@mcwctx.org
SUMMARY:Stalking Awareness Month
DESCRIPTION:January is National Stalking Awareness Month (NSAM)! Stalking must be recognized as a form of interpersonal violence as well as a crime that frequently predicts and co-occurs with physical and sexual assault. We all have a role to play in identifying stalking and supporting victims and survivors. Join us this month for WEEKLY LUNCH AND LEARN opportunities. Simply register below and receive the links to ONE TRAINING A WEEK to watch at your convenience. \nThere is a real and frighteningly significant connection between stalking and intimate partner violence. Stalking often co-occurs with intimate partner violence and can be an indicator of other forms of violence. Stalking can be a way to exert power and control during and/or after an abusive relationship. MCWC has proudly served Montgomery County and its surrounding communities for more than 40 years. We specialize in providing survivors a complete continuum of services and empowering them as they courageously embark on their healing journeys. CALL US AT 936-441-7273 \nREGISTER HERE: igfn.us/form/5qg8rg \n  \n 
URL:https://mcwctx.org/event/stalking-awareness-month/
LOCATION:TX
ATTACH;FMTTYPE=image/jpeg:https://mcwctx.org/wp-content/uploads/2025/12/Website-Upcoming-Events-Images-169-2025-12-19T142634.795.jpg
END:VEVENT
BEGIN:VEVENT
DTSTART;TZID=America/Chicago:20260101T080000
DTEND;TZID=America/Chicago:20260131T170000
DTSTAMP:20260425T222035
CREATED:20251229T203630Z
LAST-MODIFIED:20251229T203630Z
UID:37019-1767254400-1769878800@mcwctx.org
SUMMARY:Grocery Gift Card Donation Drive
DESCRIPTION:Going through a victimization often leaves you with a lot of surprise expenses and it can take a little while for our clients to adjust to their new budget\, so we try to assist with food and fuel as we can. Gift cards can truly help ensure that a victim who is getting on their feet has food and fuel when they need it. Grocery store gift cards can be used to help provide survivors and families with items suited to their specific needs.\n\nDonations can be dropped (or mailed) to: Montgomery County Women’s Center: 1401 Airport Rd\, Conroe\, TX 77301 (Attn: Siomara)
URL:https://mcwctx.org/event/grocery-gift-card-donation-drive/
LOCATION:TX
ATTACH;FMTTYPE=image/jpeg:https://mcwctx.org/wp-content/uploads/2025/12/486703789_1074097711411198_4711534739098650203_n.jpg
END:VEVENT
BEGIN:VEVENT
DTSTART;VALUE=DATE:20260121
DTEND;VALUE=DATE:20260218
DTSTAMP:20260425T222035
CREATED:20260121T214139Z
LAST-MODIFIED:20260121T214139Z
UID:37200-1768953600-1771372799@mcwctx.org
SUMMARY:Caring Parents Workshop (Weekly Feb 17- March 31) REGISTER NOW
DESCRIPTION:**THIS IS A CLOSED GROUP– YOU MUST REGISTER BEFORE ATTENDING** Call 936-441-4044 to register.\n\nChildren do not come with a manual\, but in this 7-week workshop\, we will discuss effective parenting strategies to increase child cooperation and improve your parent-child relationship after family violence. Our goal is to support your parenting style and enhance the parenting skills you already possess.
URL:https://mcwctx.org/event/caring-parents-workshop-weekly-feb-17-march-31-register-now/
LOCATION:MCWC THe Woodlands\, 1600 Lake Front Circle Suite 130\, Spring\, TX\, 77380\, United States
ATTACH;FMTTYPE=image/jpeg:https://mcwctx.org/wp-content/uploads/2026/01/Website-Upcoming-Events-Images-169-2026-01-21T151023.756.jpg
END:VEVENT
BEGIN:VEVENT
DTSTART;TZID=America/Chicago:20260126T080000
DTEND;TZID=America/Chicago:20260130T170000
DTSTAMP:20260425T222035
CREATED:20260118T201705Z
LAST-MODIFIED:20260118T201705Z
UID:37167-1769414400-1769792400@mcwctx.org
SUMMARY:Weekly Support Group (January 26- January 30)
DESCRIPTION:The Montgomery County Women’s Center also offers support groups for survivors of family and sexual violence. If you have any questions about our group meetings\, or if you wish to schedule a counseling session\, please contact the Counseling Office at: (936) 441-4044 ext. 23. \nTHE WOODLANDS COUNSELING OFFICE\nThe United Way Building\n1600 Lake Front Circle\, Suite 130\nThe Woodlands\, Texas 77380 \n  \nMondays (6:00pm- 8:00pm)\nMen United In Healing: A Support Group for Male Survivors of Domestic Violence and Sexual Assault. Join a safe\, confidential space to connect\, heal and grow with others who understand. The group will combine psychoeducation and support group methods. \n  \nTuesdays (6:00pm-7:30pm)\nBoundaries and Beyond: A Psychoeducational Support Group for Victims of Sexual Assault and Domestic Violence (Adult Females). \n  \nTuesdays (6:00pm-7:30pm)\nConquista tu Mente (Conquer your Mind): Víctimas de agresión sexual y violencia doméstica (mujeres adultas de habla hispana)\nmartes 6:00 p.m. a 7:30 p.m. (Apoyo) Victims of Sexual Assault and Domestic Violence (Spanish Speaking Adult Females) \n  \nWednesday (12:00pm-1:00pm)\nRISE: Reclaim Independence Seek Empowerment): This group is for adult female victims/ survivors of domestic violence and sexual assault (open group).The group will combine psychoeducation and support group methods. \n  \nThursday (6:00pm-7:30pm)\nProject Hope: Psychoeducation/Support Group for Adults Molested as Children (Adult Females Only)
URL:https://mcwctx.org/event/weekly-support-group-january-26-january-30/
LOCATION:Uniited Way Building- The Woodlands\, 1600 Lake Front Cir\, Spring\, TX\, 77380
ATTACH;FMTTYPE=image/jpeg:https://mcwctx.org/wp-content/uploads/2025/05/Website-Upcoming-Events-Images-169-2025-05-30T003908.799.jpg
END:VEVENT
END:VCALENDAR