BEGIN:VCALENDAR
VERSION:2.0
PRODID:-//Montgomery County Women&#039;s Center - ECPv6.15.20//NONSGML v1.0//EN
CALSCALE:GREGORIAN
METHOD:PUBLISH
X-WR-CALNAME:Montgomery County Women&#039;s Center
X-ORIGINAL-URL:https://mcwctx.org
X-WR-CALDESC:Events for Montgomery County Women&#039;s Center
REFRESH-INTERVAL;VALUE=DURATION:PT1H
X-Robots-Tag:noindex
X-PUBLISHED-TTL:PT1H
BEGIN:VTIMEZONE
TZID:America/Chicago
BEGIN:DAYLIGHT
TZOFFSETFROM:-0600
TZOFFSETTO:-0500
TZNAME:CDT
DTSTART:20220313T080000
END:DAYLIGHT
BEGIN:STANDARD
TZOFFSETFROM:-0500
TZOFFSETTO:-0600
TZNAME:CST
DTSTART:20221106T070000
END:STANDARD
BEGIN:DAYLIGHT
TZOFFSETFROM:-0600
TZOFFSETTO:-0500
TZNAME:CDT
DTSTART:20230312T080000
END:DAYLIGHT
BEGIN:STANDARD
TZOFFSETFROM:-0500
TZOFFSETTO:-0600
TZNAME:CST
DTSTART:20231105T070000
END:STANDARD
BEGIN:DAYLIGHT
TZOFFSETFROM:-0600
TZOFFSETTO:-0500
TZNAME:CDT
DTSTART:20240310T080000
END:DAYLIGHT
BEGIN:STANDARD
TZOFFSETFROM:-0500
TZOFFSETTO:-0600
TZNAME:CST
DTSTART:20241103T070000
END:STANDARD
END:VTIMEZONE
BEGIN:VEVENT
DTSTART;TZID=America/Chicago:20230301T080000
DTEND;TZID=America/Chicago:20230331T170000
DTSTAMP:20260422T222050
CREATED:20221219T160647Z
LAST-MODIFIED:20221219T162544Z
UID:5901-1677657600-1680282000@mcwctx.org
SUMMARY:PAJAMA DONATION DRIVE
DESCRIPTION:Every year thousands of children are forced to flee and live at a shelter to escape domestic violence. This disruption of home life can lead to a lonely experience\, especially at nighttime\, and something as simple as a pair of pajamas can help make bedtime a little more comforting for these women and children. \nOur emergency shelter accepts multiple victims and children every day. These victims often flee with only the clothes on their back. Our organization provides each person with the basics that they need to make it through each day. This month we are collecting pajamas for the women\, men\, boys and girls who enter our shelter. Pajamas can be new or gently used. Our shelter houses upwards of 75 individuals each night. \n  \nDonations can be dropped (or mailed) to: Montgomery County Women’s Center: 1401 Airport Rd\, Conroe\, TX 77301
URL:https://mcwctx.org/event/monthly-donation-drive-pajamas/
LOCATION:1401 Airport Rd\, Conroe TX 77301
ATTACH;FMTTYPE=image/jpeg:https://mcwctx.org/wp-content/uploads/2022/12/33.jpg
END:VEVENT
BEGIN:VEVENT
DTSTART;TZID=America/Chicago:20230315T080000
DTEND;TZID=America/Chicago:20230430T170000
DTSTAMP:20260422T222050
CREATED:20221219T191230Z
LAST-MODIFIED:20221219T191231Z
UID:5927-1678867200-1682874000@mcwctx.org
SUMMARY:SPRING COMMUNITY CLEANOUT
DESCRIPTION:Spring is HERE and it’s time to CLEAN OUT those closets\, kitchens\, garages and more !! \nDid You Know If you have a large donation (furniture\, neighborhood/ group clean out\, etc.) we can come to you!! Just give us a call to schedule your pickup today (936) 441-4044 ext53!! \nSTEP IT UP by getting together with friends\, family and neighbors and organize a group cleanout/ donation. \n  \nWe utilize donations in many ways… all of which benefit victims/survivors in our community. \n\nShelter residents and their children receive shoes and clothing since these items are generally left behind when fleeing.\nVictims/Survivors from our community are able to come shop at the resale shop with vouchers for clothing\, furniture and other necessities.\nTransitional housing apartments are completely furnished with donated furniture and housewares for new residents.\nShelter residents receive furniture and household items when re-building their homes and lives.\nRevenue from the store helps keep the shelter open.\n\n  \nCOME VISIT US AT SOMETHING SPECIAL (Shopping & Donation Hours and Location) \nMonday – Saturday 9:00 a.m. – 6:00 p.m. \n19073 I-45 South (in the Portofino Plaza next to Sam’s Club)
URL:https://mcwctx.org/event/spring-community-cleanout/
LOCATION:19073 I-45 South (in the Portofino Plaza next to Sam’s Club)\, United States
ATTACH;FMTTYPE=image/jpeg:https://mcwctx.org/wp-content/uploads/2022/12/Website-Upcoming-Events-Images-169-8.jpg
END:VEVENT
END:VCALENDAR